BEGIN:VCALENDAR
VERSION:2.0
PRODID:-//Compassionate Souls - ECPv6.15.20//NONSGML v1.0//EN
CALSCALE:GREGORIAN
METHOD:PUBLISH
X-WR-CALNAME:Compassionate Souls
X-ORIGINAL-URL:https://www.compassionatesouls.eu
X-WR-CALDESC:Veranstaltungen für Compassionate Souls
REFRESH-INTERVAL;VALUE=DURATION:PT1H
X-Robots-Tag:noindex
X-PUBLISHED-TTL:PT1H
BEGIN:VTIMEZONE
TZID:Europe/Berlin
BEGIN:DAYLIGHT
TZOFFSETFROM:+0100
TZOFFSETTO:+0200
TZNAME:CEST
DTSTART:20230326T010000
END:DAYLIGHT
BEGIN:STANDARD
TZOFFSETFROM:+0200
TZOFFSETTO:+0100
TZNAME:CET
DTSTART:20231029T010000
END:STANDARD
BEGIN:DAYLIGHT
TZOFFSETFROM:+0100
TZOFFSETTO:+0200
TZNAME:CEST
DTSTART:20240331T010000
END:DAYLIGHT
BEGIN:STANDARD
TZOFFSETFROM:+0200
TZOFFSETTO:+0100
TZNAME:CET
DTSTART:20241027T010000
END:STANDARD
BEGIN:DAYLIGHT
TZOFFSETFROM:+0100
TZOFFSETTO:+0200
TZNAME:CEST
DTSTART:20250330T010000
END:DAYLIGHT
BEGIN:STANDARD
TZOFFSETFROM:+0200
TZOFFSETTO:+0100
TZNAME:CET
DTSTART:20251026T010000
END:STANDARD
BEGIN:DAYLIGHT
TZOFFSETFROM:+0100
TZOFFSETTO:+0200
TZNAME:CEST
DTSTART:20260329T010000
END:DAYLIGHT
BEGIN:STANDARD
TZOFFSETFROM:+0200
TZOFFSETTO:+0100
TZNAME:CET
DTSTART:20261025T010000
END:STANDARD
BEGIN:DAYLIGHT
TZOFFSETFROM:+0100
TZOFFSETTO:+0200
TZNAME:CEST
DTSTART:20270328T010000
END:DAYLIGHT
BEGIN:STANDARD
TZOFFSETFROM:+0200
TZOFFSETTO:+0100
TZNAME:CET
DTSTART:20271031T010000
END:STANDARD
END:VTIMEZONE
BEGIN:VEVENT
DTSTART;VALUE=DATE:20260312
DTEND;VALUE=DATE:20260316
DTSTAMP:20260419T155006
CREATED:20260103T204532Z
LAST-MODIFIED:20260103T204532Z
UID:1398-1773273600-1773619199@www.compassionatesouls.eu
SUMMARY:Beratertreffen vom 13. – 15.03.2026 in Horn - Bad Meinberg
DESCRIPTION:Veranstaltung unseres Kooperationspartners:\n\nBeratertreffen\n\n\n\n\nfür Berater nach Anthony William – Medical Medium® \nvom 13. – 15.03.2026 \n\nHaus Shanti im Yoga-Vidya Zentrum\, Horn – Bad Meinberg \nVitalia Beratertreffen – Vitalia Community \n\nAblauf\nAnreise: Donnerstagabend bzw. Freitag im Laufe des Vormittags \nFreitag\nFortbildung: 14:00 – 17:30 Uhr\nAbendessen: 18:00 Uhr \nSamstag\nFortbildung: 09:00 – 13:00 Uhr\nMittagessen: 13:00 – 14:00 Uhr\nFortbildung: 14:00 – 17:30 Uhr\nAbendessen: 18:00 Uhr \nSonntag\nFortbildung: 09 – 13:00 Uhr\nMittagessen: 13:00 – 14:00 Uhr \nÄnderungen vorbehalten
URL:https://www.compassionatesouls.eu/veranstaltung/beratertreffen-vom-13-15-03-2026-in-horn-bad-meinberg/
END:VEVENT
BEGIN:VEVENT
DTSTART;VALUE=DATE:20260104
DTEND;VALUE=DATE:20260125
DTSTAMP:20260419T155006
CREATED:20251111T142814Z
LAST-MODIFIED:20260103T204159Z
UID:1270-1767484800-1769299199@www.compassionatesouls.eu
SUMMARY:Leberreinigung/ Detox und Genuss + Brainshot Woche 4.-14. oder 14.-24. Jänner 2026
DESCRIPTION:Eine Veranstaltung unseres Kooperationspartners\n  \nWas gibt es Schöneres\, als das neue Jahr mit einer Kur zu beginnen? 😍🙌 \ninfo@landhaus-neumayr.at ✉️ \nAnthony William Hotel | Urlaub in den Bergen nach Medical Medium \n  \n\nUrlaub nach Anthony William
URL:https://www.compassionatesouls.eu/veranstaltung/leberreinigung-detox-und-genuss-brainshot-woche-4-14-oder-4-11-jaenner-2026/
ATTACH;FMTTYPE=image/jpeg:https://www.compassionatesouls.eu/wp-content/uploads/2025/11/369-1.jpg
END:VEVENT
BEGIN:VEVENT
DTSTART;VALUE=DATE:20251227
DTEND;VALUE=DATE:20260103
DTSTAMP:20260419T155006
CREATED:20251111T115015Z
LAST-MODIFIED:20251111T115015Z
UID:1248-1766793600-1767398399@www.compassionatesouls.eu
SUMMARY:Silvesterurlaub auf Gut Helmeringen vom 27.12.2025 - 02.01.2026
DESCRIPTION:Silvesterurlaub auf Gut Helmeringen vom 27.12.2025 – 02.01.2026\nAdresse: \nHelmeringer Weg 43\n89415 Lauingen \n  \nAnmeldung: \nevent@compassionatesouls.eu \n  \nMöchtest du auch in einer Gemeinschaft Silvester feiern? \nDann melde dich gerne
URL:https://www.compassionatesouls.eu/veranstaltung/silvesterurlaub/
ATTACH;FMTTYPE=image/jpeg:https://www.compassionatesouls.eu/wp-content/uploads/2025/11/Blue-and-Gold-Simple-New-Years-Eve-Mobile-Video.jpg
END:VEVENT
BEGIN:VEVENT
DTSTART;VALUE=DATE:20251225
DTEND;VALUE=DATE:20251226
DTSTAMP:20260419T155006
CREATED:20251111T141423Z
LAST-MODIFIED:20251211T114336Z
UID:1263-1766620800-1766707199@www.compassionatesouls.eu
SUMMARY:Weihnachtsfeier am 25.12.2025 in Feldkirchen-Westerham (bei München)
DESCRIPTION:Liebe alle\, \nes besteht der Wunsch nicht nur gemeinsam Silvester\, sondern auch Weihnachten zu feiern. \n  \nAm 25.12.2025 werden wir in Feldkirchen-Westerham einer gemeinsamen Weihnachtsfeier zelebrieren. \n  \nFreu dich auf: \n\n3-Gang-Menü an schön gedeckten Tischen:\n\n1. Gang: Heilbrühe mit Sterncheneinlage (fettfrei-salzfrei-strepfreundlich möglich)\n2. Gang: Kartoffelknödel\, Blaukraut\, Bratensauce und Austernpilzgans (mit Fett und Getreide) oder Pilzgulasch (fettfrei-strepfreundlich)\, dazu Blattsalat mit Cranberrysauce\n3. Gang versch. Weihnachtskekse und dazu evtl. Zichorienkaffee oder Banane-Mango-Wildheidelbeer-Schichtdessert im Glas \n\nWeihnachtslieder singen\, wer möchte kann etwas vortragen z.B. ein Gedicht oder ein Lied mit einem Instrument\nBescherung: Christkind und bringt die Geschenke für die Kinder unter den geschmückten Weihnachtsbaum\nJeder kann gerne seine gesamte Familie zur Weihnachtsfeier mitbringen\n\nMelde dich gern an unter: \nevent@compassionatesouls.eu \nDas ausgewöhnliche und festliche 3 – Gänge-Menü wird von Sandra und Peter zubereitet. Bitte überreiche ihnen den Unkostenbeitrag von \n59€ für Erwachsene \n29€ Kinder bis 14 Jahre \nFür Vereinsmitglieder gibt es einen Rabatt:\n49€ für Vereinsmitglieder
URL:https://www.compassionatesouls.eu/veranstaltung/weihnachtsfeier-am-25-12-2025-in-feldkirchen-westerham-bei-muenchen/
ATTACH;FMTTYPE=image/jpeg:https://www.compassionatesouls.eu/wp-content/uploads/2025/11/uebersicht.jpg
END:VEVENT
BEGIN:VEVENT
DTSTART;TZID=Europe/Berlin:20251220T120000
DTEND;TZID=Europe/Berlin:20251220T190000
DTSTAMP:20260419T155006
CREATED:20251111T111724Z
LAST-MODIFIED:20251111T115229Z
UID:1242-1766232000-1766257200@www.compassionatesouls.eu
SUMMARY:Indoor Weihnachtsmarkt 20.12.2025 (Raum Rosenheim)
DESCRIPTION:  \n  \n \n  \n  \n  \n  \nEndlich wieder Weihnachtsmarktzeit – aber gemütlich und indoor! Süß\, herzhaft\, warm & frei von allem\, was du lieber meiden möchtest – unser gesunder Weihnachtsmarkt macht’s möglich! 🎄✨ \nPflanzenbasierte Leckereien\, herzhafte Köstlichkeiten\, Glühwein & Kaffee und viele kreative Geschenkideen warten auf dich. Nur 1 Std. von München – wir freuen uns auf dich! \nAm 20.12. im Landkreis Rosenheim. \n  \nKomm vorbei und genieße entspannte Stunden in guter Gesellschaft. \n  \nAnmeldung bitte unter: \nevent@compassionatesouls.eu
URL:https://www.compassionatesouls.eu/veranstaltung/indoorweihnachtsmarkt20-12-25/
ATTACH;FMTTYPE=image/jpeg:https://www.compassionatesouls.eu/wp-content/uploads/2025/11/Oberaudorf.jpg
END:VEVENT
BEGIN:VEVENT
DTSTART;TZID=Europe/Berlin:20251211T160000
DTEND;TZID=Europe/Berlin:20251214T110000
DTSTAMP:20260419T155006
CREATED:20251111T140616Z
LAST-MODIFIED:20251117T201604Z
UID:1259-1765468800-1765710000@www.compassionatesouls.eu
SUMMARY:Adventswochenende im Healthhotel
DESCRIPTION:Eine Veranstaltung unseres Kooperationspartners\n  \n  \nLasst uns gemeinsam auf die Weihnachtszeit einstimmen! ⭐️ \nAber keine Sorge- alles ist vegan\, ganz ohne Zucker\, Gluten\, Mais\, Soja\, Koffein oder Alkohol. \nDazu laden wir euch herzlich vom 11. bis zum 14. Dezember in unser gemütliches Hotel ein. Es wird super leckere Medical Medium inspirierte Plätzchen🍪 und Weihnachtsspezialitäten geben und ihr könnt euch auf einen warmen\, selbst gemachten Punsch freuen. 🍵 Die Weihnachtszeit ist natürlich nicht die selbe\, ohne weihnachtlichen Gesang. An den haben wir auch gedacht und wollen gemeinsam mit euch singen. 🎵 \n⭐️ Gern könnt ihr am Donnerstag\, den 11. Dezember ab 16:00 Uhr eintreffen. \n✨ Buchen könnt ihr ganz einfach\, indem ihr eine Mail an uns sendet:\n✉️ info@landhaus-neumayr.at \nwir freuen uns schon sehr auf euch! \nEuer Health Hotel\n🌱https://www.landhaus-neumayr.at/urlaub-nach-anthony-william/
URL:https://www.compassionatesouls.eu/veranstaltung/advendimhealthotel/
ATTACH;FMTTYPE=image/jpeg:https://www.compassionatesouls.eu/wp-content/uploads/2025/11/Healthotel.jpg
END:VEVENT
BEGIN:VEVENT
DTSTART;VALUE=DATE:20251206
DTEND;VALUE=DATE:20251207
DTSTAMP:20260419T155006
CREATED:20251118T185003Z
LAST-MODIFIED:20251118T185808Z
UID:1376-1764979200-1765065599@www.compassionatesouls.eu
SUMMARY:Weihnachtsmarkt mit Nikolausbesuch am 06.12.2025
DESCRIPTION:  \nFür alle\, die Weihnachten gerne natürlich genießen – ein stimmungsvoller Tag für große und kleine Herzensmenschen. \nBitte sendet den Text für den Nikolaus an shop@compassionatesouls.eu \nWir freuen uns auf euch!
URL:https://www.compassionatesouls.eu/veranstaltung/weihnachtsmarkt-mit-nikolausbesuch-am-06-12-2025/
ATTACH;FMTTYPE=image/jpeg:https://www.compassionatesouls.eu/wp-content/uploads/2025/11/Bernadette-1.jpg
END:VEVENT
BEGIN:VEVENT
DTSTART;VALUE=DATE:20250920
DTEND;VALUE=DATE:20250922
DTSTAMP:20260419T155006
CREATED:20250831T100837Z
LAST-MODIFIED:20250831T101256Z
UID:1197-1758326400-1758499199@www.compassionatesouls.eu
SUMMARY:Abschiedsfest Wiesmühle in Mindelheim
DESCRIPTION:Philipp Heintz läd zum Abschiedsfest von seinem Gemüsegarten ein. \nAnmeldungen bitte per E-Mail an: \nevent@compassionatesouls.eu
URL:https://www.compassionatesouls.eu/veranstaltung/abschiedsfest-wiesmuehle-in-mindelheim/
ATTACH;FMTTYPE=image/jpeg:https://www.compassionatesouls.eu/wp-content/uploads/2025/07/Selleriecamp.jpg
END:VEVENT
BEGIN:VEVENT
DTSTART;TZID=Europe/Berlin:20250907T140000
DTEND;TZID=Europe/Berlin:20250907T190000
DTSTAMP:20260419T155006
CREATED:20250831T100608Z
LAST-MODIFIED:20250831T100608Z
UID:1193-1757253600-1757271600@www.compassionatesouls.eu
SUMMARY:Picknick in Augsburg
DESCRIPTION:Auch dieses Jahr läd Sandra Grillmair zu einem Picknick in der Nähe von Augsburg auf einen Wasserspielplatz ein. \n  \nJeder bringt was  zum Buffet mit. Toiletten sind auf dem Spielplatz vorhanden. \n  \nAnmeldungen bitte an: \nevent@compassionatesouls.eu
URL:https://www.compassionatesouls.eu/veranstaltung/picknick-in-augsburg/
ATTACH;FMTTYPE=image/jpeg:https://www.compassionatesouls.eu/wp-content/uploads/2025/08/Picknick-Augsburg.jpg
END:VEVENT
BEGIN:VEVENT
DTSTART;VALUE=DATE:20250806
DTEND;VALUE=DATE:20250811
DTSTAMP:20260419T155006
CREATED:20240422T104125Z
LAST-MODIFIED:20250721T194735Z
UID:123-1754438400-1754870399@www.compassionatesouls.eu
SUMMARY:Festival 2025
DESCRIPTION:Liebe Community\, \nwir möchten gerne mit euch im Jahr 2025 das 3. Compassionate Souls Festival feiern. \nFestival Link Deutsch \nFestival Link English \n\n  \n 
URL:https://www.compassionatesouls.eu/veranstaltung/festival/
CATEGORIES:Gruppentreffen
ATTACH;FMTTYPE=image/jpeg:https://www.compassionatesouls.eu/wp-content/uploads/2024/04/Logo_233.jpg
END:VEVENT
BEGIN:VEVENT
DTSTART;TZID=Europe/Berlin:20250726T130000
DTEND;TZID=Europe/Berlin:20250802T120000
DTSTAMP:20260419T155006
CREATED:20250508T131135Z
LAST-MODIFIED:20250508T190545Z
UID:1024-1753534800-1754136000@www.compassionatesouls.eu
SUMMARY:"Heal in Harmony" Luzern\, Schweiz
DESCRIPTION:Liebe Community\, \nvom 26. Juli bis 2. August 2025 laden wir euch herzlich ein zu „Heal in Harmony“ –\neine gemeinsam gestaltete Woche in der Natur auf rund 1.070 Metern Höhe in den wunderschönen Bergen bei Luzern\, Schweiz. \nDieses Treffen richtet sich besonders an Menschen\, die nach dem Medical Medium®-Lebensstil leben und sich mit anderen auf diesem Heilungsweg verbinden möchten – in Authentizität\, Freude und Präsenz. \nWas euch erwartet:\n– Ein großes\, rustikales Berghaus mit geräumiger Küche und einfachen Schlafsälen\n– Gemeinschaft\, Musik\, Natur\, Bewegung & Flow\n– Übernachtung in Kajütenbetten\, Familienzimmern\, Doppel- oder Einzelzimmern oder im Zelt / Camper – alles zum selben Pauschalpreis\n– Kein fixer Ablauf – Kochen\, Musik\, Tanz\, Stille und Verbindung entstehen aus dem Moment heraus\n– Alle Teilnehmenden sind eingeladen\, ihre Gaben und Talente einzubringen\n– Große Wiese mit Feuerstelle\, Schaukeln und Sitzplätzen im Freien\n– Indoor-Spielmöglichkeiten: Pingpong\, Billard\, Spielzimmer\, Boulderraum\n– Kinder sind herzlich willkommen! \nVerpflegung:\n– Jede*r bringt eigenes Medical Medium®-konformes Essen mit (bis Stufe 4)\n– Möglichkeit zur Sammelbestellung von Bio-Obst und -Gemüse von einem nahegelegenen Hof \n– Gemeinschaftsküche zum Kochen\, Austauschen & voneinander Lernen \nWichtiger Hinweis:\nDie Veranstaltung ist duft- und chemikalienfrei\, um einen sicheren Raum für Menschen mit MCS (Multiple Chemical Sensitivity) zu schaffen.\nDuftfreies Shampoo\, Duschgel und Handseife werden vor Ort bereitgestellt.\nBitte bringt keine parfümierten Produkte\, ätherischen Öle\, Parfums oder parfümierte Kleidung mit.\nVielen Dank für eure Achtsamkeit! \nDetails:\nOrt: Eigenthal bei Luzern\, Schweiz (genaue Adresse nach Anmeldung)\nKosten:\nCHF 40/Nacht für Erwachsene\nCHF 20/Nacht für Kinder (8–15 Jahre)\nKinder unter 8 Jahren kostenlos\nTagestickets: CHF 20 / CHF 10 (Kinder) \nJede Nacht kann einzeln gebucht werden. \nAnreise: Samstag \, 26. Juli ab 13:00 Uhr\nAbreise: Samstag \, 2. August bis 12:00 Uhr \nAnmeldung:\nDie Plätze sind begrenzt. Bitte schreibt mir eine E-Mail\, um den Anmeldelink zu erhalten: \ntoteamcelery@gmail.com \nWichtig: Bitte verwendet eine Google-kompatible E-Mail-Adresse (z. B. @gmail.com)\, da das Anmeldeformular ein Google-Formular ist. \nTelegram-Gruppe:\nUnsere Telegram-Gruppe ist ein einladender Ort für Austausch\, Updates und organisatorische Informationen im Vorfeld des Treffens.\nWichtig: Die Anmeldung erfolgt ausschließlich über das Google-Formular\, das ihr per E-Mail erhaltet (bitte stellt sicher\, dass eure E-Mail Google-kompatibel ist).\nDie Gruppe dient nicht der Anmeldung. \nStornobedingungen:\nNach Zahlung ist keine Rückerstattung möglich.\nFalls du nicht teilnehmen kannst\, kannst du deinen Platz gern an jemand anderen übertragen oder verkaufen. Bitte teile uns den Namen der ersetzenden Person mit. \nHeal in Harmony lebt durch uns alle – durch unsere Offenheit\, Präsenz und die Bereitschaft\, gemeinsam zu gestalten. \nWir freuen uns auf euch!\nHerzlich\,\nCharlotte Gullhamn \n  \n  \n \n  \nDear Community\,\nFrom July 26 to August 2\, 2025\, we warmly invite you to\n“Heal in Harmony” –\na co-created gathering in nature\, held at 1\,070 meters in the beautiful mountains near Lucerne\, Switzerland. \nThis unique week is for those living the Medical Medium® lifestyle who long to connect with others on a shared healing path – in authenticity\, joy\, and presence. \nWhat to expect:\n– A spacious\, rustic mountain house with a large kitchen and simple shared rooms\n– Community\, music\, nature\, movement & flow\n– Accommodation options: bunk beds\, family rooms\, double or single rooms\, or tent/camper all at the same flat rate\n– The Schedule is set spontaneously each day\n– activities like cooking\, music\, dance\, rest\, and connection arise naturally\n– Everyone is invited to share their talents and gifts\n– Large outdoor lawn with fire pit\, swings\, and plenty of space to gather and eat outside\n– Indoor activities: ping-pong\, billiards\, playroom\, bouldering room\n– Children are very welcome! \nFood:\n– Bring your own Medical Medium® compliant food (up to level 4)\n– There will be an option to order fresh\, organic produce from a nearby farm\n– A well-equipped shared kitchen is available for cooking\, connection & learning\n– Meals and moments unfold in the flow of community – no pressure \nFragrance-Free Space:\nTo create a safe environment for those with Multiple Chemical Sensitivity (MCS)\, this is a fragrance- and chemical-free event.\nFragrance-free shampoo\, shower gel\, and hand soap will be provided on site.\nPlease avoid bringing any scented products\, perfumes\, essential oils\, or fragranced laundry detergents.\nThank you for your care and awareness. \nEvent Details:\nLocation: Eigenthal\, near Lucerne\, Switzerland (exact address provided upon registration)\nCost:\nCHF 40/night – Adults\nCHF 20/night – Children (ages 8–15)\nChildren under 8 – Free\nDay Tickets: CHF 20 / CHF 10 (children) \nYou can book each night individually. \nArrival: Saturday\, July 26 from 1:00 PM\nDeparture: Saturday\, August 2 nd by 12:00 PM \nRegistration:\nSpots are limited. Please email me at toteamcelery@gmail.com to receive the registration link.\nImportant: The registration form is hosted via Google Forms – please provide a Google-compatible email address (e.g. @gmail.com). \nTelegram Group:\nOur Telegram group is a warm and welcoming space for connection\, updates\, and organizational info before the event.\nPlease note: Registration is only possible via the Google Form. The Telegram group is not for sign-ups. \nCancellation Policy:\nTickets are non-refundable after purchase.\nIf you are unable to attend\, you are welcome to transfer or sell your spot to someone else. Please email us the name of the new participant. \nHeal in Harmony is co-created by all of us – through our openness\, presence\, and willingness to share. \nWe can’t wait to see you there!\nWith warmth\,\nCharlotte Gullhamn \n  \n 
URL:https://www.compassionatesouls.eu/veranstaltung/heal-in-harmony-wanderung-in-luzern-schweiz/
LOCATION:Luzern\, Schweiz\, Luzern\, Switzerland
ATTACH;FMTTYPE=image/jpeg:https://www.compassionatesouls.eu/wp-content/uploads/2025/05/wanderung.jpg
END:VEVENT
BEGIN:VEVENT
DTSTART;VALUE=DATE:20250718
DTEND;VALUE=DATE:20250721
DTSTAMP:20260419T155006
CREATED:20250716T222545Z
LAST-MODIFIED:20250716T222620Z
UID:1155-1752796800-1753055999@www.compassionatesouls.eu
SUMMARY:Selleriecamp vom 18 - 20.07.2025
DESCRIPTION:🌿 Was ist eigentlich das Celery Camp? 🌿 \n  \nDu warst noch nie dabei und möchtest wissen\, was dich erwartet? \nDas Celery Camp ist ein naturnahes Wochenende in unserer Medical Medium Gemeinschaft – draußen auf Philips Biofeld im Unterallgäu\, zwischen zwei Flüssen. \n  \nVon Freitag\, 18. Juli bis Sonntag\, 20. Juli treffen wir uns\, um zu entschleunigen\, direkt vom Feld zu ernten\, zu genießen und einfach miteinander zu sein. \n💚 Direkt auf dem Biofeld wachsen Sellerie\, Koriander\, Salat\, Kohl u. v. m. – alles darf frisch geerntet und genutzt werden.\n🍋 Deine Morgenroutine bereitest du dir selbst zu – mit Zitronenwasser\, selbst geerntetem Sellerie und dem HMDS.\n⚡ Eine portable Strombox steht bereit – begrenzt nutzbar für kurze Anwendungen wie Mixer oder Entsafter. \n🍽️ Verpflegung:\n🥗 Freitagabend gibt es ein gemeinsames Mitbring-Buffet. Jeder bringt etwas AW-konformes mit – so entsteht ein buntes Abendessen aus der Gemeinschaft.\n🍲 für Samstag und Sonntag würden wir\, falls gewünscht\, ein kleines Catering zum Mittag- und Abendessen anbieten\, damit an den Folgetagen alle satt werden\, auch ohne großartige Kühl- und Kochmöglichkeiten draußen in der Natur. \n🚿 Vor Ort gibt es:\n🔌 eine mobile Stromquelle (begrenzt)\n🚰 gefiltertes Trinkwasser\n🧼 ein Spülbecken\n🚽 eine Komposttoilette\n🪑 Biertische unter freiem Himmel \n🏕️ Übernachten kannst du direkt am Feld:\nim Zelt\, im Auto oder Bus – ganz wie du magst. \nKein festes Programm. Kein Druck.\nNur du\, die Natur\, Lagerfeuer und liebevolle Begegnungen und Gesprächskreise. \nBeginn Freitag 18. Juli 2025: schätzungsweise ab mittags/nachmittags (oder nach Feierabend) werden alle zum Aufbauen der Zelte eintrudeln\, vielleicht bringt jemand für Nachmittags Obst und Kuchen mit? \n  \nEnde Sonntag 20. Juli 2025 nach dem Abendessen\, damit alle gesättigt wieder die Heimreise antreten können\nNatürlich ist es auch möglich nur tageweise zu kommen und gar nicht dort zu schlafen. \n  \nWir freuen uns über jeden\, der vorbei schaut. \n  \nhttps://maps.app.goo.gl/HT7Hu6R4pPULYXVJ9 \n  \n 
URL:https://www.compassionatesouls.eu/veranstaltung/selleriecamp-vom-18-20-07-2025/
ATTACH;FMTTYPE=image/jpeg:https://www.compassionatesouls.eu/wp-content/uploads/2025/07/Selleriecamp-1.jpg
END:VEVENT
BEGIN:VEVENT
DTSTART;TZID=Europe/Berlin:20241201T120000
DTEND;TZID=Europe/Berlin:20241201T180000
DTSTAMP:20260419T155006
CREATED:20241018T100401Z
LAST-MODIFIED:20241018T100401Z
UID:473-1733054400-1733076000@www.compassionatesouls.eu
SUMMARY:MM-Adventsmarkt in Neu-Ulm
DESCRIPTION:Hallo Zusammen\, \nwir veranstalten einen Weihnachtsmarkt in Neu-Ulm\, wo Bernadette ein medical medium konformes Menü anbieten wird. \nDas Menü seht ihr auf der Preisliste. \n \nWir freuen uns auf euch.
URL:https://www.compassionatesouls.eu/veranstaltung/mm-adventsmarkt-in-neu-ulm/
LOCATION:Weihnachtsmarkt Neu-Ulm\, Pfaffenhofener Straße 1\, Roth\, 89284\, Germany
ATTACH;FMTTYPE=image/jpeg:https://www.compassionatesouls.eu/wp-content/uploads/2024/10/weihnachtsmarkt-1.jpg
END:VEVENT
BEGIN:VEVENT
DTSTART;VALUE=DATE:20240802
DTEND;VALUE=DATE:20240805
DTSTAMP:20260419T155006
CREATED:20240528T084530Z
LAST-MODIFIED:20240624T192930Z
UID:253-1722556800-1722815999@www.compassionatesouls.eu
SUMMARY:Selleriecamp im Unterallgäu
DESCRIPTION:Im Unterallgäu treffen wir uns ein Wochenende in Phillip seinem Gemüsegarten\, um ein paar Tage die freie Natur zu genießen. \nWenn ihr mitmachen wollt meldet euch bei: regina.bader89@gmail.com
URL:https://www.compassionatesouls.eu/veranstaltung/selleriecamp-im-unterallgaeu/
CATEGORIES:Gruppentreffen
ATTACH;FMTTYPE=image/jpeg:https://www.compassionatesouls.eu/wp-content/uploads/2024/05/selleriecam_-phil_2-e1716885643110.jpg
END:VEVENT
BEGIN:VEVENT
DTSTART;TZID=Europe/Berlin:20240717T100000
DTEND;TZID=Europe/Berlin:20240717T163000
DTSTAMP:20260419T155006
CREATED:20240602T182400Z
LAST-MODIFIED:20240627T180250Z
UID:314-1721210400-1721233800@www.compassionatesouls.eu
SUMMARY:Blaubeerenwanderung in Tirol
DESCRIPTION:Wir gehen Blaubeerensammeln. Wir treffen uns an einem Parkplatz und von dort aus gehen wir ca 20 – 30 Minuten zufuß in den Wald hinein. \nDort können wir jede Menge Blaubeeren sammeln\, also nehmt euch genügend Material mit (Rucksack und Tupperware\, bzw. Plastikeimer) \nWenn mann schneller ernten möchte gibt es einen sogenannten Blaubeerkamm zum Ernten. \nWir werden Mittags eine Pause machen (jeder sorgt für sich selbst) und am Nachmittag wieder nach Hause fahren. \n  \nBitte meldet euch an unter: simon.kappelmeyer@gmail.com
URL:https://www.compassionatesouls.eu/veranstaltung/blaubeerenwanderung-in-tirol/
LOCATION:Tirol-westendorf-käsealm-parkplatz\, Rettenbach 14\, Rettenbach\, Tirol\, 6363\, Österreich
ATTACH;FMTTYPE=image/jpeg:https://www.compassionatesouls.eu/wp-content/uploads/2024/06/Simon_Blaubeerwald-min.jpg
END:VEVENT
END:VCALENDAR