BEGIN:VCALENDAR
VERSION:2.0
PRODID:-//Compassionate Souls - ECPv6.15.20//NONSGML v1.0//EN
CALSCALE:GREGORIAN
METHOD:PUBLISH
X-WR-CALNAME:Compassionate Souls
X-ORIGINAL-URL:https://www.compassionatesouls.eu
X-WR-CALDESC:Veranstaltungen für Compassionate Souls
REFRESH-INTERVAL;VALUE=DURATION:PT1H
X-Robots-Tag:noindex
X-PUBLISHED-TTL:PT1H
BEGIN:VTIMEZONE
TZID:Europe/Berlin
BEGIN:DAYLIGHT
TZOFFSETFROM:+0100
TZOFFSETTO:+0200
TZNAME:CEST
DTSTART:20250330T010000
END:DAYLIGHT
BEGIN:STANDARD
TZOFFSETFROM:+0200
TZOFFSETTO:+0100
TZNAME:CET
DTSTART:20251026T010000
END:STANDARD
BEGIN:DAYLIGHT
TZOFFSETFROM:+0100
TZOFFSETTO:+0200
TZNAME:CEST
DTSTART:20260329T010000
END:DAYLIGHT
BEGIN:STANDARD
TZOFFSETFROM:+0200
TZOFFSETTO:+0100
TZNAME:CET
DTSTART:20261025T010000
END:STANDARD
BEGIN:DAYLIGHT
TZOFFSETFROM:+0100
TZOFFSETTO:+0200
TZNAME:CEST
DTSTART:20270328T010000
END:DAYLIGHT
BEGIN:STANDARD
TZOFFSETFROM:+0200
TZOFFSETTO:+0100
TZNAME:CET
DTSTART:20271031T010000
END:STANDARD
END:VTIMEZONE
BEGIN:VEVENT
DTSTART;VALUE=DATE:20260312
DTEND;VALUE=DATE:20260316
DTSTAMP:20260419T191911
CREATED:20260103T204532Z
LAST-MODIFIED:20260103T204532Z
UID:1398-1773273600-1773619199@www.compassionatesouls.eu
SUMMARY:Beratertreffen vom 13. – 15.03.2026 in Horn - Bad Meinberg
DESCRIPTION:Veranstaltung unseres Kooperationspartners:\n\nBeratertreffen\n\n\n\n\nfür Berater nach Anthony William – Medical Medium® \nvom 13. – 15.03.2026 \n\nHaus Shanti im Yoga-Vidya Zentrum\, Horn – Bad Meinberg \nVitalia Beratertreffen – Vitalia Community \n\nAblauf\nAnreise: Donnerstagabend bzw. Freitag im Laufe des Vormittags \nFreitag\nFortbildung: 14:00 – 17:30 Uhr\nAbendessen: 18:00 Uhr \nSamstag\nFortbildung: 09:00 – 13:00 Uhr\nMittagessen: 13:00 – 14:00 Uhr\nFortbildung: 14:00 – 17:30 Uhr\nAbendessen: 18:00 Uhr \nSonntag\nFortbildung: 09 – 13:00 Uhr\nMittagessen: 13:00 – 14:00 Uhr \nÄnderungen vorbehalten
URL:https://www.compassionatesouls.eu/veranstaltung/beratertreffen-vom-13-15-03-2026-in-horn-bad-meinberg/
END:VEVENT
END:VCALENDAR