BEGIN:VCALENDAR
VERSION:2.0
PRODID:-//Compassionate Souls - ECPv6.15.20//NONSGML v1.0//EN
CALSCALE:GREGORIAN
METHOD:PUBLISH
X-WR-CALNAME:Compassionate Souls
X-ORIGINAL-URL:https://www.compassionatesouls.eu
X-WR-CALDESC:Veranstaltungen für Compassionate Souls
REFRESH-INTERVAL;VALUE=DURATION:PT1H
X-Robots-Tag:noindex
X-PUBLISHED-TTL:PT1H
BEGIN:VTIMEZONE
TZID:Europe/Berlin
BEGIN:DAYLIGHT
TZOFFSETFROM:+0100
TZOFFSETTO:+0200
TZNAME:CEST
DTSTART:20240331T010000
END:DAYLIGHT
BEGIN:STANDARD
TZOFFSETFROM:+0200
TZOFFSETTO:+0100
TZNAME:CET
DTSTART:20241027T010000
END:STANDARD
BEGIN:DAYLIGHT
TZOFFSETFROM:+0100
TZOFFSETTO:+0200
TZNAME:CEST
DTSTART:20250330T010000
END:DAYLIGHT
BEGIN:STANDARD
TZOFFSETFROM:+0200
TZOFFSETTO:+0100
TZNAME:CET
DTSTART:20251026T010000
END:STANDARD
BEGIN:DAYLIGHT
TZOFFSETFROM:+0100
TZOFFSETTO:+0200
TZNAME:CEST
DTSTART:20260329T010000
END:DAYLIGHT
BEGIN:STANDARD
TZOFFSETFROM:+0200
TZOFFSETTO:+0100
TZNAME:CET
DTSTART:20261025T010000
END:STANDARD
END:VTIMEZONE
BEGIN:VEVENT
DTSTART;VALUE=DATE:20251225
DTEND;VALUE=DATE:20251226
DTSTAMP:20260420T003636
CREATED:20251111T141423Z
LAST-MODIFIED:20251211T114336Z
UID:1263-1766620800-1766707199@www.compassionatesouls.eu
SUMMARY:Weihnachtsfeier am 25.12.2025 in Feldkirchen-Westerham (bei München)
DESCRIPTION:Liebe alle\, \nes besteht der Wunsch nicht nur gemeinsam Silvester\, sondern auch Weihnachten zu feiern. \n  \nAm 25.12.2025 werden wir in Feldkirchen-Westerham einer gemeinsamen Weihnachtsfeier zelebrieren. \n  \nFreu dich auf: \n\n3-Gang-Menü an schön gedeckten Tischen:\n\n1. Gang: Heilbrühe mit Sterncheneinlage (fettfrei-salzfrei-strepfreundlich möglich)\n2. Gang: Kartoffelknödel\, Blaukraut\, Bratensauce und Austernpilzgans (mit Fett und Getreide) oder Pilzgulasch (fettfrei-strepfreundlich)\, dazu Blattsalat mit Cranberrysauce\n3. Gang versch. Weihnachtskekse und dazu evtl. Zichorienkaffee oder Banane-Mango-Wildheidelbeer-Schichtdessert im Glas \n\nWeihnachtslieder singen\, wer möchte kann etwas vortragen z.B. ein Gedicht oder ein Lied mit einem Instrument\nBescherung: Christkind und bringt die Geschenke für die Kinder unter den geschmückten Weihnachtsbaum\nJeder kann gerne seine gesamte Familie zur Weihnachtsfeier mitbringen\n\nMelde dich gern an unter: \nevent@compassionatesouls.eu \nDas ausgewöhnliche und festliche 3 – Gänge-Menü wird von Sandra und Peter zubereitet. Bitte überreiche ihnen den Unkostenbeitrag von \n59€ für Erwachsene \n29€ Kinder bis 14 Jahre \nFür Vereinsmitglieder gibt es einen Rabatt:\n49€ für Vereinsmitglieder
URL:https://www.compassionatesouls.eu/veranstaltung/weihnachtsfeier-am-25-12-2025-in-feldkirchen-westerham-bei-muenchen/
ATTACH;FMTTYPE=image/jpeg:https://www.compassionatesouls.eu/wp-content/uploads/2025/11/uebersicht.jpg
END:VEVENT
END:VCALENDAR