BEGIN:VCALENDAR
VERSION:2.0
PRODID:-//Compassionate Souls - ECPv6.15.20//NONSGML v1.0//EN
CALSCALE:GREGORIAN
METHOD:PUBLISH
X-WR-CALNAME:Compassionate Souls
X-ORIGINAL-URL:https://www.compassionatesouls.eu
X-WR-CALDESC:Veranstaltungen für Compassionate Souls
REFRESH-INTERVAL;VALUE=DURATION:PT1H
X-Robots-Tag:noindex
X-PUBLISHED-TTL:PT1H
BEGIN:VTIMEZONE
TZID:Europe/Berlin
BEGIN:DAYLIGHT
TZOFFSETFROM:+0100
TZOFFSETTO:+0200
TZNAME:CEST
DTSTART:20240331T010000
END:DAYLIGHT
BEGIN:STANDARD
TZOFFSETFROM:+0200
TZOFFSETTO:+0100
TZNAME:CET
DTSTART:20241027T010000
END:STANDARD
BEGIN:DAYLIGHT
TZOFFSETFROM:+0100
TZOFFSETTO:+0200
TZNAME:CEST
DTSTART:20250330T010000
END:DAYLIGHT
BEGIN:STANDARD
TZOFFSETFROM:+0200
TZOFFSETTO:+0100
TZNAME:CET
DTSTART:20251026T010000
END:STANDARD
BEGIN:DAYLIGHT
TZOFFSETFROM:+0100
TZOFFSETTO:+0200
TZNAME:CEST
DTSTART:20260329T010000
END:DAYLIGHT
BEGIN:STANDARD
TZOFFSETFROM:+0200
TZOFFSETTO:+0100
TZNAME:CET
DTSTART:20261025T010000
END:STANDARD
END:VTIMEZONE
BEGIN:VEVENT
DTSTART;TZID=Europe/Berlin:20250726T130000
DTEND;TZID=Europe/Berlin:20250802T120000
DTSTAMP:20260420T091116
CREATED:20250508T131135Z
LAST-MODIFIED:20250508T190545Z
UID:1024-1753534800-1754136000@www.compassionatesouls.eu
SUMMARY:"Heal in Harmony" Luzern\, Schweiz
DESCRIPTION:Liebe Community\, \nvom 26. Juli bis 2. August 2025 laden wir euch herzlich ein zu „Heal in Harmony“ –\neine gemeinsam gestaltete Woche in der Natur auf rund 1.070 Metern Höhe in den wunderschönen Bergen bei Luzern\, Schweiz. \nDieses Treffen richtet sich besonders an Menschen\, die nach dem Medical Medium®-Lebensstil leben und sich mit anderen auf diesem Heilungsweg verbinden möchten – in Authentizität\, Freude und Präsenz. \nWas euch erwartet:\n– Ein großes\, rustikales Berghaus mit geräumiger Küche und einfachen Schlafsälen\n– Gemeinschaft\, Musik\, Natur\, Bewegung & Flow\n– Übernachtung in Kajütenbetten\, Familienzimmern\, Doppel- oder Einzelzimmern oder im Zelt / Camper – alles zum selben Pauschalpreis\n– Kein fixer Ablauf – Kochen\, Musik\, Tanz\, Stille und Verbindung entstehen aus dem Moment heraus\n– Alle Teilnehmenden sind eingeladen\, ihre Gaben und Talente einzubringen\n– Große Wiese mit Feuerstelle\, Schaukeln und Sitzplätzen im Freien\n– Indoor-Spielmöglichkeiten: Pingpong\, Billard\, Spielzimmer\, Boulderraum\n– Kinder sind herzlich willkommen! \nVerpflegung:\n– Jede*r bringt eigenes Medical Medium®-konformes Essen mit (bis Stufe 4)\n– Möglichkeit zur Sammelbestellung von Bio-Obst und -Gemüse von einem nahegelegenen Hof \n– Gemeinschaftsküche zum Kochen\, Austauschen & voneinander Lernen \nWichtiger Hinweis:\nDie Veranstaltung ist duft- und chemikalienfrei\, um einen sicheren Raum für Menschen mit MCS (Multiple Chemical Sensitivity) zu schaffen.\nDuftfreies Shampoo\, Duschgel und Handseife werden vor Ort bereitgestellt.\nBitte bringt keine parfümierten Produkte\, ätherischen Öle\, Parfums oder parfümierte Kleidung mit.\nVielen Dank für eure Achtsamkeit! \nDetails:\nOrt: Eigenthal bei Luzern\, Schweiz (genaue Adresse nach Anmeldung)\nKosten:\nCHF 40/Nacht für Erwachsene\nCHF 20/Nacht für Kinder (8–15 Jahre)\nKinder unter 8 Jahren kostenlos\nTagestickets: CHF 20 / CHF 10 (Kinder) \nJede Nacht kann einzeln gebucht werden. \nAnreise: Samstag \, 26. Juli ab 13:00 Uhr\nAbreise: Samstag \, 2. August bis 12:00 Uhr \nAnmeldung:\nDie Plätze sind begrenzt. Bitte schreibt mir eine E-Mail\, um den Anmeldelink zu erhalten: \ntoteamcelery@gmail.com \nWichtig: Bitte verwendet eine Google-kompatible E-Mail-Adresse (z. B. @gmail.com)\, da das Anmeldeformular ein Google-Formular ist. \nTelegram-Gruppe:\nUnsere Telegram-Gruppe ist ein einladender Ort für Austausch\, Updates und organisatorische Informationen im Vorfeld des Treffens.\nWichtig: Die Anmeldung erfolgt ausschließlich über das Google-Formular\, das ihr per E-Mail erhaltet (bitte stellt sicher\, dass eure E-Mail Google-kompatibel ist).\nDie Gruppe dient nicht der Anmeldung. \nStornobedingungen:\nNach Zahlung ist keine Rückerstattung möglich.\nFalls du nicht teilnehmen kannst\, kannst du deinen Platz gern an jemand anderen übertragen oder verkaufen. Bitte teile uns den Namen der ersetzenden Person mit. \nHeal in Harmony lebt durch uns alle – durch unsere Offenheit\, Präsenz und die Bereitschaft\, gemeinsam zu gestalten. \nWir freuen uns auf euch!\nHerzlich\,\nCharlotte Gullhamn \n  \n  \n \n  \nDear Community\,\nFrom July 26 to August 2\, 2025\, we warmly invite you to\n“Heal in Harmony” –\na co-created gathering in nature\, held at 1\,070 meters in the beautiful mountains near Lucerne\, Switzerland. \nThis unique week is for those living the Medical Medium® lifestyle who long to connect with others on a shared healing path – in authenticity\, joy\, and presence. \nWhat to expect:\n– A spacious\, rustic mountain house with a large kitchen and simple shared rooms\n– Community\, music\, nature\, movement & flow\n– Accommodation options: bunk beds\, family rooms\, double or single rooms\, or tent/camper all at the same flat rate\n– The Schedule is set spontaneously each day\n– activities like cooking\, music\, dance\, rest\, and connection arise naturally\n– Everyone is invited to share their talents and gifts\n– Large outdoor lawn with fire pit\, swings\, and plenty of space to gather and eat outside\n– Indoor activities: ping-pong\, billiards\, playroom\, bouldering room\n– Children are very welcome! \nFood:\n– Bring your own Medical Medium® compliant food (up to level 4)\n– There will be an option to order fresh\, organic produce from a nearby farm\n– A well-equipped shared kitchen is available for cooking\, connection & learning\n– Meals and moments unfold in the flow of community – no pressure \nFragrance-Free Space:\nTo create a safe environment for those with Multiple Chemical Sensitivity (MCS)\, this is a fragrance- and chemical-free event.\nFragrance-free shampoo\, shower gel\, and hand soap will be provided on site.\nPlease avoid bringing any scented products\, perfumes\, essential oils\, or fragranced laundry detergents.\nThank you for your care and awareness. \nEvent Details:\nLocation: Eigenthal\, near Lucerne\, Switzerland (exact address provided upon registration)\nCost:\nCHF 40/night – Adults\nCHF 20/night – Children (ages 8–15)\nChildren under 8 – Free\nDay Tickets: CHF 20 / CHF 10 (children) \nYou can book each night individually. \nArrival: Saturday\, July 26 from 1:00 PM\nDeparture: Saturday\, August 2 nd by 12:00 PM \nRegistration:\nSpots are limited. Please email me at toteamcelery@gmail.com to receive the registration link.\nImportant: The registration form is hosted via Google Forms – please provide a Google-compatible email address (e.g. @gmail.com). \nTelegram Group:\nOur Telegram group is a warm and welcoming space for connection\, updates\, and organizational info before the event.\nPlease note: Registration is only possible via the Google Form. The Telegram group is not for sign-ups. \nCancellation Policy:\nTickets are non-refundable after purchase.\nIf you are unable to attend\, you are welcome to transfer or sell your spot to someone else. Please email us the name of the new participant. \nHeal in Harmony is co-created by all of us – through our openness\, presence\, and willingness to share. \nWe can’t wait to see you there!\nWith warmth\,\nCharlotte Gullhamn \n  \n 
URL:https://www.compassionatesouls.eu/veranstaltung/heal-in-harmony-wanderung-in-luzern-schweiz/
LOCATION:Luzern\, Schweiz\, Luzern\, Switzerland
ATTACH;FMTTYPE=image/jpeg:https://www.compassionatesouls.eu/wp-content/uploads/2025/05/wanderung.jpg
END:VEVENT
END:VCALENDAR